Package: scHiCcompare Version: 1.3.0 Command: /Library/Frameworks/R.framework/Resources/bin/R CMD build --keep-empty-dirs --no-resave-data scHiCcompare StartedAt: 2025-11-13 17:37:11 -0500 (Thu, 13 Nov 2025) EndedAt: 2025-11-13 17:37:39 -0500 (Thu, 13 Nov 2025) EllapsedTime: 27.3 seconds RetCode: 0 Status: OK PackageFile: scHiCcompare_1.3.0.tar.gz PackageFileSize: 1.279 MiB