Package: scHiCcompare Version: 1.3.0 Command: rm -rf scHiCcompare.buildbin-libdir && mkdir scHiCcompare.buildbin-libdir && /Users/biocbuild/BBS/utils/build-universal.sh scHiCcompare_1.3.0.tar.gz /Library/Frameworks/R.framework/Resources/bin/R scHiCcompare.buildbin-libdir StartedAt: 2025-11-13 23:55:26 -0500 (Thu, 13 Nov 2025) EndedAt: 2025-11-13 23:55:41 -0500 (Thu, 13 Nov 2025) EllapsedTime: 15.3 seconds RetCode: 0 Status: OK PackageFile: scHiCcompare_1.3.0.tgz PackageFileSize: 1.274 MiB