Package: scHOT Version: 1.23.0 Command: /home/biocbuild/bbs-3.23-bioc/R/bin/R CMD INSTALL scHOT StartedAt: 2025-11-11 15:27:18 -0500 (Tue, 11 Nov 2025) EndedAt: 2025-11-11 15:27:46 -0500 (Tue, 11 Nov 2025) EllapsedTime: 27.9 seconds RetCode: 0 Status: OK