Package: scHOT Version: 1.23.0 Command: /Library/Frameworks/R.framework/Resources/bin/R CMD build --keep-empty-dirs --no-resave-data scHOT StartedAt: 2025-11-12 17:09:33 -0500 (Wed, 12 Nov 2025) EndedAt: 2025-11-12 17:10:27 -0500 (Wed, 12 Nov 2025) EllapsedTime: 53.6 seconds RetCode: 0 Status: OK PackageFile: scHOT_1.23.0.tar.gz PackageFileSize: 2.315 MiB