Package: scHOT Version: 1.23.0 Command: rm -rf scHOT.buildbin-libdir && mkdir scHOT.buildbin-libdir && /Users/biocbuild/BBS/utils/build-universal.sh scHOT_1.23.0.tar.gz /Library/Frameworks/R.framework/Resources/bin/R scHOT.buildbin-libdir StartedAt: 2025-11-13 23:55:27 -0500 (Thu, 13 Nov 2025) EndedAt: 2025-11-13 23:55:41 -0500 (Thu, 13 Nov 2025) EllapsedTime: 14.3 seconds RetCode: 0 Status: OK PackageFile: scHOT_1.23.0.tgz PackageFileSize: 2.703 MiB