Package: scHOT Version: 1.23.0 Maintainer: Shila Ghazanfar MaintainerEmail: shazanfar at gmail.com git_url: https://git.bioconductor.org/packages/scHOT git_branch: devel git_last_commit: 70965ea git_last_commit_date: 2025-10-29 10:58:22 -0500 (Wed, 29 Oct 2025)