Package: scGraphVerse Version: 1.1.0 Command: /Library/Frameworks/R.framework/Resources/bin/R CMD INSTALL scGraphVerse StartedAt: 2025-11-12 15:26:02 -0500 (Wed, 12 Nov 2025) EndedAt: 2025-11-12 15:26:14 -0500 (Wed, 12 Nov 2025) EllapsedTime: 12.4 seconds RetCode: 0 Status: OK