Package: scGraphVerse Version: 1.1.0 Command: /Library/Frameworks/R.framework/Resources/bin/R CMD build --keep-empty-dirs --no-resave-data scGraphVerse StartedAt: 2025-11-12 17:09:22 -0500 (Wed, 12 Nov 2025) EndedAt: 2025-11-12 17:10:28 -0500 (Wed, 12 Nov 2025) EllapsedTime: 65.8 seconds RetCode: 0 Status: OK PackageFile: scGraphVerse_1.1.0.tar.gz PackageFileSize: 3.232 MiB