Package: scGraphVerse Version: 1.1.0 Command: rm -rf scGraphVerse.buildbin-libdir && mkdir scGraphVerse.buildbin-libdir && /Users/biocbuild/BBS/utils/build-universal.sh scGraphVerse_1.1.0.tar.gz /Library/Frameworks/R.framework/Resources/bin/R scGraphVerse.buildbin-libdir StartedAt: 2025-11-13 23:55:24 -0500 (Thu, 13 Nov 2025) EndedAt: 2025-11-13 23:55:40 -0500 (Thu, 13 Nov 2025) EllapsedTime: 16.3 seconds RetCode: 0 Status: OK PackageFile: scGraphVerse_1.1.0.tgz PackageFileSize: 3.999 MiB