Package: scGPS Version: 1.25.0 Command: /Library/Frameworks/R.framework/Resources/bin/R CMD INSTALL scGPS StartedAt: 2025-11-13 15:14:23 -0500 (Thu, 13 Nov 2025) EndedAt: 2025-11-13 15:14:41 -0500 (Thu, 13 Nov 2025) EllapsedTime: 18.3 seconds RetCode: 0 Status: OK