Package: scGPS Version: 1.25.0 Command: /Library/Frameworks/R.framework/Resources/bin/R CMD build --keep-empty-dirs --no-resave-data scGPS StartedAt: 2025-11-13 17:36:59 -0500 (Thu, 13 Nov 2025) EndedAt: 2025-11-13 17:39:15 -0500 (Thu, 13 Nov 2025) EllapsedTime: 135.5 seconds RetCode: 0 Status: OK PackageFile: scGPS_1.25.0.tar.gz PackageFileSize: 2.033 MiB