Package: scGPS Version: 1.25.0 Command: rm -rf scGPS.buildbin-libdir && mkdir scGPS.buildbin-libdir && /Users/biocbuild/BBS/utils/build-universal.sh scGPS_1.25.0.tar.gz /Library/Frameworks/R.framework/Resources/bin/R scGPS.buildbin-libdir StartedAt: 2025-11-13 23:55:23 -0500 (Thu, 13 Nov 2025) EndedAt: 2025-11-13 23:55:46 -0500 (Thu, 13 Nov 2025) EllapsedTime: 23.4 seconds RetCode: 0 Status: OK PackageFile: scGPS_1.25.0.tgz PackageFileSize: 2.747 MiB