Package: scFeatures Version: 1.11.0 Command: /home/biocbuild/bbs-3.23-bioc/R/bin/R CMD INSTALL scFeatures StartedAt: 2025-11-11 16:04:38 -0500 (Tue, 11 Nov 2025) EndedAt: 2025-11-11 16:05:55 -0500 (Tue, 11 Nov 2025) EllapsedTime: 76.1 seconds RetCode: 0 Status: OK