Package: scFeatures Version: 1.11.0 Command: /Library/Frameworks/R.framework/Resources/bin/R CMD INSTALL scFeatures StartedAt: 2025-11-13 15:34:34 -0500 (Thu, 13 Nov 2025) EndedAt: 2025-11-13 15:35:06 -0500 (Thu, 13 Nov 2025) EllapsedTime: 32.1 seconds RetCode: 0 Status: OK