Package: scDotPlot Version: 1.5.0 Command: /home/biocbuild/bbs-3.23-bioc/R/bin/R CMD INSTALL scDotPlot StartedAt: 2025-11-13 15:53:55 -0500 (Thu, 13 Nov 2025) EndedAt: 2025-11-13 15:54:36 -0500 (Thu, 13 Nov 2025) EllapsedTime: 40.9 seconds RetCode: 0 Status: OK