Package: scDotPlot Version: 1.5.0 Command: /Library/Frameworks/R.framework/Resources/bin/R CMD build --keep-empty-dirs --no-resave-data scDotPlot StartedAt: 2025-11-13 17:36:18 -0500 (Thu, 13 Nov 2025) EndedAt: 2025-11-13 17:37:02 -0500 (Thu, 13 Nov 2025) EllapsedTime: 44.5 seconds RetCode: 0 Status: OK PackageFile: scDotPlot_1.5.0.tar.gz PackageFileSize: 1.972 MiB