Package: scDiagnostics Version: 1.5.0 Command: /home/biocbuild/bbs-3.23-bioc/R/bin/R CMD INSTALL scDiagnostics StartedAt: 2025-11-13 15:18:59 -0500 (Thu, 13 Nov 2025) EndedAt: 2025-11-13 15:19:31 -0500 (Thu, 13 Nov 2025) EllapsedTime: 31.4 seconds RetCode: 0 Status: OK