Package: scDiagnostics Version: 1.5.0 Command: /home/biocbuild/bbs-3.23-bioc/R/bin/R CMD build --keep-empty-dirs --no-resave-data scDiagnostics StartedAt: 2025-11-11 19:56:03 -0500 (Tue, 11 Nov 2025) EndedAt: 2025-11-11 20:00:23 -0500 (Tue, 11 Nov 2025) EllapsedTime: 260.2 seconds RetCode: 0 Status: OK PackageFile: scDiagnostics_1.5.0.tar.gz PackageFileSize: 3.677 MiB