Package: scDiagnostics Version: 1.5.0 Maintainer: Anthony Christidis MaintainerEmail: anthony-alexander_christidis at hms.harvard.edu git_url: https://git.bioconductor.org/packages/scDiagnostics git_branch: devel git_last_commit: 2f5ad14 git_last_commit_date: 2025-10-29 11:31:45 -0500 (Wed, 29 Oct 2025)