Package: scDesign3 Version: 1.9.0 Command: /home/biocbuild/bbs-3.23-bioc/R/bin/R CMD INSTALL scDesign3 StartedAt: 2025-11-13 15:36:55 -0500 (Thu, 13 Nov 2025) EndedAt: 2025-11-13 15:37:04 -0500 (Thu, 13 Nov 2025) EllapsedTime: 9.7 seconds RetCode: 0 Status: OK