Package: scDesign3 Version: 1.9.0 Command: /home/biocbuild/bbs-3.23-bioc/R/bin/R CMD check --install=check:scDesign3.install-out.txt --library=/home/biocbuild/bbs-3.23-bioc/R/site-library --timings scDesign3_1.9.0.tar.gz StartedAt: 2025-11-15 03:42:18 -0500 (Sat, 15 Nov 2025) EndedAt: 2025-11-15 03:46:29 -0500 (Sat, 15 Nov 2025) EllapsedTime: 251.2 seconds RetCode: 0 Status: OK CheckDir: scDesign3.Rcheck Warnings: 0