Package: scDesign3 Version: 1.9.0 Command: /home/biocbuild/bbs-3.23-bioc/R/bin/R CMD build --keep-empty-dirs --no-resave-data scDesign3 StartedAt: 2025-11-13 19:50:47 -0500 (Thu, 13 Nov 2025) EndedAt: 2025-11-13 19:51:47 -0500 (Thu, 13 Nov 2025) EllapsedTime: 60.1 seconds RetCode: 0 Status: OK PackageFile: scDesign3_1.9.0.tar.gz PackageFileSize: 1.012 MiB