Package: scDesign3 Version: 1.9.0 Command: /Library/Frameworks/R.framework/Resources/bin/R CMD check --install=check:scDesign3.install-out.txt --library=/Library/Frameworks/R.framework/Resources/library --no-vignettes --timings scDesign3_1.9.0.tar.gz StartedAt: 2025-11-21 22:17:04 -0500 (Fri, 21 Nov 2025) EndedAt: 2025-11-21 22:18:19 -0500 (Fri, 21 Nov 2025) EllapsedTime: 75.0 seconds RetCode: 0 Status: OK CheckDir: scDesign3.Rcheck Warnings: 0