Package: scDblFinder Version: 1.25.0 Command: /home/biocbuild/bbs-3.23-bioc/R/bin/R CMD build --keep-empty-dirs --no-resave-data scDblFinder StartedAt: 2025-11-13 19:50:18 -0500 (Thu, 13 Nov 2025) EndedAt: 2025-11-13 19:52:51 -0500 (Thu, 13 Nov 2025) EllapsedTime: 153.2 seconds RetCode: 0 Status: OK PackageFile: scDblFinder_1.25.0.tar.gz PackageFileSize: 2.144 MiB