Package: scDblFinder Version: 1.25.0 Command: /Library/Frameworks/R.framework/Resources/bin/R CMD INSTALL scDblFinder StartedAt: 2025-11-12 15:44:23 -0500 (Wed, 12 Nov 2025) EndedAt: 2025-11-12 15:44:24 -0500 (Wed, 12 Nov 2025) EllapsedTime: 1.2 seconds RetCode: 1 Status: ERROR