############################################################################## ############################################################################## ### ### Running command: ### ### /Library/Frameworks/R.framework/Resources/bin/R CMD build --keep-empty-dirs --no-resave-data scDblFinder ### ############################################################################## ############################################################################## * checking for file ‘scDblFinder/DESCRIPTION’ ... OK * preparing ‘scDblFinder’: * checking DESCRIPTION meta-information ... OK * installing the package (it is needed to build vignettes) ----------------------------------- ERROR: dependency ‘scran’ is not available for package ‘scDblFinder’ Perhaps try a variation of: install.packages('scran') * removing ‘/private/var/folders/r0/l4fjk6cj5xj0j3brt4bplpl40000gt/T/Rtmpvul6Ci/Rinst5dd43156263a/scDblFinder’ ----------------------------------- ERROR: package installation failed