Package: scDblFinder Version: 1.25.0 Maintainer: Pierre-Luc Germain MaintainerEmail: pierre-luc.germain at hest.ethz.ch git_url: https://git.bioconductor.org/packages/scDblFinder git_branch: devel git_last_commit: dffe1fe git_last_commit_date: 2025-10-29 10:55:23 -0500 (Wed, 29 Oct 2025)