Package: scDataviz Version: 1.21.0 Command: /home/biocbuild/bbs-3.23-bioc/R/bin/R CMD build --keep-empty-dirs --no-resave-data scDataviz StartedAt: 2025-11-13 19:49:48 -0500 (Thu, 13 Nov 2025) EndedAt: 2025-11-13 19:53:52 -0500 (Thu, 13 Nov 2025) EllapsedTime: 244.2 seconds RetCode: 0 Status: OK PackageFile: scDataviz_1.21.0.tar.gz PackageFileSize: 7.481 MiB