Package: scDataviz Version: 1.21.0 Command: /Library/Frameworks/R.framework/Resources/bin/R CMD check --install=check:scDataviz.install-out.txt --library=/Library/Frameworks/R.framework/Resources/library --no-vignettes --timings scDataviz_1.21.0.tar.gz StartedAt: 2025-11-13 22:21:25 -0500 (Thu, 13 Nov 2025) EndedAt: 2025-11-13 22:23:26 -0500 (Thu, 13 Nov 2025) EllapsedTime: 120.4 seconds RetCode: 0 Status: OK CheckDir: scDataviz.Rcheck Warnings: 0