Package: scDDboost Version: 1.13.0 Command: /Library/Frameworks/R.framework/Resources/bin/R CMD check --install=check:scDDboost.install-out.txt --library=/Library/Frameworks/R.framework/Resources/library --no-vignettes --timings scDDboost_1.13.0.tar.gz StartedAt: 2025-11-13 22:22:03 -0500 (Thu, 13 Nov 2025) EndedAt: 2025-11-13 22:24:02 -0500 (Thu, 13 Nov 2025) EllapsedTime: 119.4 seconds RetCode: 0 Status: OK CheckDir: scDDboost.Rcheck Warnings: 0