Package: scDD Version: 1.35.0 Command: /home/biocbuild/bbs-3.23-bioc/R/bin/R CMD INSTALL scDD StartedAt: 2025-11-13 15:56:29 -0500 (Thu, 13 Nov 2025) EndedAt: 2025-11-13 15:57:05 -0500 (Thu, 13 Nov 2025) EllapsedTime: 36.4 seconds RetCode: 0 Status: OK