Package: scDD Version: 1.35.0 Command: /home/biocbuild/bbs-3.23-bioc/R/bin/R CMD build --keep-empty-dirs --no-resave-data scDD StartedAt: 2025-11-13 19:50:27 -0500 (Thu, 13 Nov 2025) EndedAt: 2025-11-13 19:52:38 -0500 (Thu, 13 Nov 2025) EllapsedTime: 131.2 seconds RetCode: 0 Status: OK PackageFile: scDD_1.35.0.tar.gz PackageFileSize: 847 KiB