Package: scDD Version: 1.35.0 Command: /Library/Frameworks/R.framework/Resources/bin/R CMD INSTALL scDD StartedAt: 2025-11-14 15:30:41 -0500 (Fri, 14 Nov 2025) EndedAt: 2025-11-14 15:30:55 -0500 (Fri, 14 Nov 2025) EllapsedTime: 13.8 seconds RetCode: 0 Status: OK