Package: scDD Version: 1.35.0 Command: rm -rf scDD.buildbin-libdir && mkdir scDD.buildbin-libdir && /Users/biocbuild/BBS/utils/build-universal.sh scDD_1.35.0.tar.gz /Library/Frameworks/R.framework/Resources/bin/R scDD.buildbin-libdir StartedAt: 2025-11-14 23:50:26 -0500 (Fri, 14 Nov 2025) EndedAt: 2025-11-14 23:50:43 -0500 (Fri, 14 Nov 2025) EllapsedTime: 17.4 seconds RetCode: 0 Status: OK PackageFile: scDD_1.35.0.tgz PackageFileSize: 1.002 MiB