Package: scDD Version: 1.35.0 Maintainer: Keegan Korthauer MaintainerEmail: keegan at stat.ubc.ca git_url: https://git.bioconductor.org/packages/scDD git_branch: devel git_last_commit: c088d52 git_last_commit_date: 2025-10-29 10:36:02 -0500 (Wed, 29 Oct 2025)