Package: scClassify Version: 1.23.0 Command: /home/biocbuild/bbs-3.23-bioc/R/bin/R CMD build --keep-empty-dirs --no-resave-data scClassify StartedAt: 2025-11-11 19:54:55 -0500 (Tue, 11 Nov 2025) EndedAt: 2025-11-11 19:56:37 -0500 (Tue, 11 Nov 2025) EllapsedTime: 102.2 seconds RetCode: 0 Status: OK PackageFile: scClassify_1.23.0.tar.gz PackageFileSize: 2.903 MiB