############################################################################## ############################################################################## ### ### Running command: ### ### /Library/Frameworks/R.framework/Resources/bin/R CMD build --keep-empty-dirs --no-resave-data scClassify ### ############################################################################## ############################################################################## * checking for file ‘scClassify/DESCRIPTION’ ... OK * preparing ‘scClassify’: * checking DESCRIPTION meta-information ... OK * installing the package (it is needed to build vignettes) ----------------------------------- ERROR: dependency ‘Cepo’ is not available for package ‘scClassify’ Perhaps try a variation of: install.packages('Cepo') * removing ‘/private/var/folders/r0/l4fjk6cj5xj0j3brt4bplpl40000gt/T/RtmpyRIjZW/Rinst5bb37eb6bbdd/scClassify’ ----------------------------------- ERROR: package installation failed