Package: scCB2 Version: 1.21.0 Command: /Library/Frameworks/R.framework/Resources/bin/R CMD INSTALL scCB2 StartedAt: 2025-11-13 15:16:35 -0500 (Thu, 13 Nov 2025) EndedAt: 2025-11-13 15:16:51 -0500 (Thu, 13 Nov 2025) EllapsedTime: 16.4 seconds RetCode: 0 Status: OK