Package: scCB2 Version: 1.21.0 Maintainer: Zijian Ni MaintainerEmail: zni25 at wisc.edu git_url: https://git.bioconductor.org/packages/scCB2 git_branch: devel git_last_commit: 6b117de git_last_commit_date: 2025-10-29 11:00:33 -0500 (Wed, 29 Oct 2025)