Package: scBFA Version: 1.25.0 Command: /Library/Frameworks/R.framework/Resources/bin/R CMD INSTALL scBFA StartedAt: 2025-11-16 15:13:54 -0500 (Sun, 16 Nov 2025) EndedAt: 2025-11-16 15:14:12 -0500 (Sun, 16 Nov 2025) EllapsedTime: 18.0 seconds RetCode: 0 Status: OK