Package: scBFA Version: 1.25.0 Command: /Library/Frameworks/R.framework/Resources/bin/R CMD build --keep-empty-dirs --no-resave-data scBFA StartedAt: 2025-11-16 17:33:28 -0500 (Sun, 16 Nov 2025) EndedAt: 2025-11-16 17:34:02 -0500 (Sun, 16 Nov 2025) EllapsedTime: 33.4 seconds RetCode: 0 Status: OK PackageFile: scBFA_1.25.0.tar.gz PackageFileSize: 1.212 MiB