Package: scBFA Version: 1.25.0 Command: rm -rf scBFA.buildbin-libdir && mkdir scBFA.buildbin-libdir && /Users/biocbuild/BBS/utils/build-universal.sh scBFA_1.25.0.tar.gz /Library/Frameworks/R.framework/Resources/bin/R scBFA.buildbin-libdir StartedAt: 2025-11-16 23:51:22 -0500 (Sun, 16 Nov 2025) EndedAt: 2025-11-16 23:51:44 -0500 (Sun, 16 Nov 2025) EllapsedTime: 22.4 seconds RetCode: 0 Status: OK PackageFile: scBFA_1.25.0.tgz PackageFileSize: 1.281 MiB