Package: scAnnotatR Version: 1.17.0 Command: /home/biocbuild/bbs-3.23-bioc/R/bin/R CMD build --keep-empty-dirs --no-resave-data scAnnotatR StartedAt: 2025-11-14 19:48:23 -0500 (Fri, 14 Nov 2025) EndedAt: 2025-11-14 19:57:43 -0500 (Fri, 14 Nov 2025) EllapsedTime: 559.6 seconds RetCode: 0 Status: OK PackageFile: scAnnotatR_1.17.0.tar.gz PackageFileSize: 562.8 KiB