Package: scAnnotatR Version: 1.17.0 Maintainer: Johannes Griss MaintainerEmail: johannes.griss at meduniwien.ac.at git_url: https://git.bioconductor.org/packages/scAnnotatR git_branch: devel git_last_commit: 76379af git_last_commit_date: 2025-10-29 11:11:54 -0500 (Wed, 29 Oct 2025)