Package: sangerseqR Version: 1.47.0 Command: /Library/Frameworks/R.framework/Resources/bin/R CMD INSTALL sangerseqR StartedAt: 2025-11-14 15:26:11 -0500 (Fri, 14 Nov 2025) EndedAt: 2025-11-14 15:26:16 -0500 (Fri, 14 Nov 2025) EllapsedTime: 5.2 seconds RetCode: 0 Status: OK