Package: sangerseqR Version: 1.47.0 Command: /Library/Frameworks/R.framework/Resources/bin/R CMD build --keep-empty-dirs --no-resave-data sangerseqR StartedAt: 2025-11-14 17:31:19 -0500 (Fri, 14 Nov 2025) EndedAt: 2025-11-14 17:31:33 -0500 (Fri, 14 Nov 2025) EllapsedTime: 14.1 seconds RetCode: 0 Status: OK PackageFile: sangerseqR_1.47.0.tar.gz PackageFileSize: 2.934 MiB