Package: sangerseqR Version: 1.47.0 Command: rm -rf sangerseqR.buildbin-libdir && mkdir sangerseqR.buildbin-libdir && /Users/biocbuild/BBS/utils/build-universal.sh sangerseqR_1.47.0.tar.gz /Library/Frameworks/R.framework/Resources/bin/R sangerseqR.buildbin-libdir StartedAt: 2025-11-14 23:49:47 -0500 (Fri, 14 Nov 2025) EndedAt: 2025-11-14 23:49:55 -0500 (Fri, 14 Nov 2025) EllapsedTime: 7.1 seconds RetCode: 0 Status: OK PackageFile: sangerseqR_1.47.0.tgz PackageFileSize: 3.185 MiB