Back to Build/check report for BioC 3.23:   simplified   long
ABCDEFGHIJKLMNOPQR[S]TUVWXYZ

This page was generated on 2025-11-13 11:32 -0500 (Thu, 13 Nov 2025).

HostnameOSArch (*)R versionInstalled pkgs
kjohnson3macOS 13.7.7 Venturaarm64R Under development (unstable) (2025-11-04 r88984) -- "Unsuffered Consequences" 4013
Click on any hostname to see more info about the system (e.g. compilers)      (*) as reported by 'uname -p', except on Windows and Mac OS X

All results for package sangerseqR


To the developers/maintainers of the sangerseqR package:
- Allow up to 24 hours (and sometimes 48 hours) for your latest push to git@git.bioconductor.org:packages/sangerseqR.git to reflect on this report. See Troubleshooting Build Report for more information.
- Use the following Renviron settings to reproduce errors and warnings.
- If 'R CMD check' started to fail recently on the Linux builder(s) over a missing dependency, add the missing dependency to 'Suggests:' in your DESCRIPTION file. See Renviron.bioc for more information.

raw results

Package 1857/2325HostnameOS / ArchINSTALLBUILDCHECKBUILD BIN
sangerseqR 1.47.0  (landing page)
Jonathon Hill
Snapshot Date: 2025-11-12 13:40 -0500 (Wed, 12 Nov 2025)
git_url: https://git.bioconductor.org/packages/sangerseqR
git_branch: devel
git_last_commit: fda56d9
git_last_commit_date: 2025-10-29 10:18:08 -0500 (Wed, 29 Oct 2025)
kjohnson3macOS 13.7.7 Ventura / arm64  OK    OK    OK    OK  YES



Results for Bioconductor software packages that depend directly on package sangerseqR

QUICK STATSOS / ArchINSTALLBUILDCHECKBUILD BIN
kjohnson3macOS 13.7.7 Ventura / arm64
020
020
0000
000
Package 1/2HostnameOS / ArchINSTALLBUILDCHECKBUILD BIN
sangeranalyseR 1.21.0  (landing page)
Kuan-Hao Chao
git_last_commit: 7e0ce60
git_last_commit_date: 2025-10-29 10:59:40 -0500
kjohnson3macOS 13.7.7 Ventura / arm64  ERROR    ERROR  skippedskipped
Package 2/2HostnameOS / ArchINSTALLBUILDCHECKBUILD BIN
scifer 1.13.0  (landing page)
Rodrigo Arcoverde Cerveira
git_last_commit: 3d9c52d
git_last_commit_date: 2025-10-29 11:18:43 -0500
kjohnson3macOS 13.7.7 Ventura / arm64  ERROR    ERROR  skippedskipped