Package: sangeranalyseR Version: 1.21.0 Command: /home/biocbuild/bbs-3.23-bioc/R/bin/R CMD INSTALL sangeranalyseR StartedAt: 2025-11-13 15:51:03 -0500 (Thu, 13 Nov 2025) EndedAt: 2025-11-13 15:51:08 -0500 (Thu, 13 Nov 2025) EllapsedTime: 5.3 seconds RetCode: 1 Status: ERROR