Package: sangeranalyseR Version: 1.21.0 Command: /Library/Frameworks/R.framework/Resources/bin/R CMD INSTALL sangeranalyseR StartedAt: 2025-11-13 15:30:00 -0500 (Thu, 13 Nov 2025) EndedAt: 2025-11-13 15:30:03 -0500 (Thu, 13 Nov 2025) EllapsedTime: 3.1 seconds RetCode: 1 Status: ERROR